BEGIN:VCALENDAR
VERSION:2.0
PRODID:-//Rochdale Pétanque - ECPv6.15.20//NONSGML v1.0//EN
CALSCALE:GREGORIAN
METHOD:PUBLISH
X-WR-CALNAME:Rochdale Pétanque
X-ORIGINAL-URL:https://rochdalepetanque.com
X-WR-CALDESC:Events for Rochdale Pétanque
REFRESH-INTERVAL;VALUE=DURATION:PT1H
X-Robots-Tag:noindex
X-PUBLISHED-TTL:PT1H
BEGIN:VTIMEZONE
TZID:Europe/London
BEGIN:DAYLIGHT
TZOFFSETFROM:+0000
TZOFFSETTO:+0100
TZNAME:BST
DTSTART:20250330T010000
END:DAYLIGHT
BEGIN:STANDARD
TZOFFSETFROM:+0100
TZOFFSETTO:+0000
TZNAME:GMT
DTSTART:20251026T010000
END:STANDARD
BEGIN:DAYLIGHT
TZOFFSETFROM:+0000
TZOFFSETTO:+0100
TZNAME:BST
DTSTART:20260329T010000
END:DAYLIGHT
BEGIN:STANDARD
TZOFFSETFROM:+0100
TZOFFSETTO:+0000
TZNAME:GMT
DTSTART:20261025T010000
END:STANDARD
BEGIN:DAYLIGHT
TZOFFSETFROM:+0000
TZOFFSETTO:+0100
TZNAME:BST
DTSTART:20270328T010000
END:DAYLIGHT
BEGIN:STANDARD
TZOFFSETFROM:+0100
TZOFFSETTO:+0000
TZNAME:GMT
DTSTART:20271031T010000
END:STANDARD
END:VTIMEZONE
BEGIN:VEVENT
DTSTART;TZID=Europe/London:20260421T130000
DTEND;TZID=Europe/London:20260421T160000
DTSTAMP:20260420T025257
CREATED:20231023T112939Z
LAST-MODIFIED:20231023T113044Z
UID:10000671-1776776400-1776787200@rochdalepetanque.com
SUMMARY:Tuesday Afternoon Open Session
DESCRIPTION:Join in our Tuesday afternoon open session\, everyone welcome.
URL:https://rochdalepetanque.com/index.php/event/open-session/2026-04-21/
LOCATION:Milnrow Cricket Club\, Harbour Lane\, Milnrow\, Rochdale\, OL16 4HF\, United Kingdom
CATEGORIES:Rochdale Events
END:VEVENT
BEGIN:VEVENT
DTSTART;TZID=Europe/London:20260423T180000
DTEND;TZID=Europe/London:20260423T203000
DTSTAMP:20260420T025257
CREATED:20230828T225148Z
LAST-MODIFIED:20230830T061208Z
UID:10000139-1776967200-1776976200@rochdalepetanque.com
SUMMARY:Thursday Evening Practice
DESCRIPTION:Come along and join us at 6pm for our Thursday evening practice sessions
URL:https://rochdalepetanque.com/index.php/event/102/2026-04-23/
CATEGORIES:Rochdale Events
END:VEVENT
BEGIN:VEVENT
DTSTART;TZID=Europe/London:20260426T100000
DTEND;TZID=Europe/London:20260426T150000
DTSTAMP:20260420T025257
CREATED:20230829T060949Z
LAST-MODIFIED:20230830T061050Z
UID:10000400-1777197600-1777215600@rochdalepetanque.com
SUMMARY:Sunday Pétanque Session
DESCRIPTION:Come along and join our Sunday Pétanque session\, everybody welcome.
URL:https://rochdalepetanque.com/index.php/event/sunday-petanque-session/2026-04-26/
CATEGORIES:Rochdale Events
END:VEVENT
BEGIN:VEVENT
DTSTART;TZID=Europe/London:20260426T133000
DTEND;TZID=Europe/London:20260426T170000
DTSTAMP:20260420T025257
CREATED:20260303T135821Z
LAST-MODIFIED:20260303T135949Z
UID:10000964-1777210200-1777222800@rochdalepetanque.com
SUMMARY:Rochdale Boules League
DESCRIPTION:Sunday 26th April \nDonkey V Milton \nRochdale P V Healey \nTrafford AM V LOSW \nBBC V Dellboys \n  \n  \nStandard Notes / Rules \nStart at 1.30pm unless pre-arranged otherwise.\nHome captain to check their competition are coming\nHome teams to ensure catering arrangements in place for hosting\nHome team rules apply – Hosting home team captain – please highlight obvious contentious rules\nAll games to be refereed.\nIf a boule is removed before each team agreed the end\, the opposing team take the points + 1 point each boules moved\nMatch Cancellation and Rearrangement\nAny match may be rescheduled subject to agreement between 2 team captains.\nIf a Team cannot play then they must give the opposing team 3 days’ notice to cancel or potentially suffer forfeit\nWhen a game is postponed by agreement between the Captains\, the Captain agreeing to the postponement should offer the postponing Captain three alternative dates to play the postponed match within two weeks of the original fixture.\nThe postponing Captain must accept one of these dates and the match played – if the game has not been rearranged within 4 weeks both teams may forfeit\nRearranged matches during the 1st half of the season must be played before the midpoint of the season wherever possible.\nAll rearranged matches must be played 2 weeks before the end of the season\nAll details of rearranged matches must be communicated on the WhatsApp captains group so the fixtures can be updated centrally\nIf a match isn’t played by the end of the season then both teams will forfeit all points for that game unless there is sufficient proof to suggest that one team has tried all efforts to rearrange\, at which point points will be awarded to the ‘innocent team’ based on their seasons average.\nNo teams will deliberately forfeit a match
URL:https://rochdalepetanque.com/index.php/event/rochdale-boules-league-15/
CATEGORIES:Competitive Events,Local Competitions,Rochdale Events
END:VEVENT
BEGIN:VEVENT
DTSTART;TZID=Europe/London:20260428T130000
DTEND;TZID=Europe/London:20260428T160000
DTSTAMP:20260420T025257
CREATED:20231023T112939Z
LAST-MODIFIED:20231023T113044Z
UID:10000672-1777381200-1777392000@rochdalepetanque.com
SUMMARY:Tuesday Afternoon Open Session
DESCRIPTION:Join in our Tuesday afternoon open session\, everyone welcome.
URL:https://rochdalepetanque.com/index.php/event/open-session/2026-04-28/
LOCATION:Milnrow Cricket Club\, Harbour Lane\, Milnrow\, Rochdale\, OL16 4HF\, United Kingdom
CATEGORIES:Rochdale Events
END:VEVENT
BEGIN:VEVENT
DTSTART;TZID=Europe/London:20260430T180000
DTEND;TZID=Europe/London:20260430T203000
DTSTAMP:20260420T025257
CREATED:20230828T225148Z
LAST-MODIFIED:20230830T061208Z
UID:10000140-1777572000-1777581000@rochdalepetanque.com
SUMMARY:Thursday Evening Practice
DESCRIPTION:Come along and join us at 6pm for our Thursday evening practice sessions
URL:https://rochdalepetanque.com/index.php/event/102/2026-04-30/
CATEGORIES:Rochdale Events
END:VEVENT
BEGIN:VEVENT
DTSTART;TZID=Europe/London:20260503T100000
DTEND;TZID=Europe/London:20260503T150000
DTSTAMP:20260420T025257
CREATED:20230829T060949Z
LAST-MODIFIED:20230830T061050Z
UID:10000401-1777802400-1777820400@rochdalepetanque.com
SUMMARY:Sunday Pétanque Session
DESCRIPTION:Come along and join our Sunday Pétanque session\, everybody welcome.
URL:https://rochdalepetanque.com/index.php/event/sunday-petanque-session/2026-05-03/
CATEGORIES:Rochdale Events
END:VEVENT
BEGIN:VEVENT
DTSTART;TZID=Europe/London:20260505T130000
DTEND;TZID=Europe/London:20260505T160000
DTSTAMP:20260420T025257
CREATED:20231023T112939Z
LAST-MODIFIED:20231023T113044Z
UID:10000673-1777986000-1777996800@rochdalepetanque.com
SUMMARY:Tuesday Afternoon Open Session
DESCRIPTION:Join in our Tuesday afternoon open session\, everyone welcome.
URL:https://rochdalepetanque.com/index.php/event/open-session/2026-05-05/
LOCATION:Milnrow Cricket Club\, Harbour Lane\, Milnrow\, Rochdale\, OL16 4HF\, United Kingdom
CATEGORIES:Rochdale Events
END:VEVENT
BEGIN:VEVENT
DTSTART;TZID=Europe/London:20260507T180000
DTEND;TZID=Europe/London:20260507T203000
DTSTAMP:20260420T025257
CREATED:20230828T225148Z
LAST-MODIFIED:20230830T061208Z
UID:10000141-1778176800-1778185800@rochdalepetanque.com
SUMMARY:Thursday Evening Practice
DESCRIPTION:Come along and join us at 6pm for our Thursday evening practice sessions
URL:https://rochdalepetanque.com/index.php/event/102/2026-05-07/
CATEGORIES:Rochdale Events
END:VEVENT
BEGIN:VEVENT
DTSTART;TZID=Europe/London:20260510T100000
DTEND;TZID=Europe/London:20260510T150000
DTSTAMP:20260420T025257
CREATED:20230829T060949Z
LAST-MODIFIED:20230830T061050Z
UID:10000402-1778407200-1778425200@rochdalepetanque.com
SUMMARY:Sunday Pétanque Session
DESCRIPTION:Come along and join our Sunday Pétanque session\, everybody welcome.
URL:https://rochdalepetanque.com/index.php/event/sunday-petanque-session/2026-05-10/
CATEGORIES:Rochdale Events
END:VEVENT
BEGIN:VEVENT
DTSTART;TZID=Europe/London:20260510T133000
DTEND;TZID=Europe/London:20260510T170000
DTSTAMP:20260420T025257
CREATED:20260303T140342Z
LAST-MODIFIED:20260303T143357Z
UID:10000965-1778419800-1778432400@rochdalepetanque.com
SUMMARY:Rochdale Boules League
DESCRIPTION:Milton V Healey \nRochdale P V LOSW \nDellboys V Donkey \nBBC V Trafford AM \n  \n  \nStandard Notes / Rules \nStart at 1.30pm unless pre-arranged otherwise.\nHome captain to check their competition are coming\nHome teams to ensure catering arrangements in place for hosting\nHome team rules apply – Hosting home team captain – please highlight obvious contentious rules\nAll games to be refereed.\nIf a boule is removed before each team agreed the end\, the opposing team take the points + 1 point each boules moved\nMatch Cancellation and Rearrangement\nAny match may be rescheduled subject to agreement between 2 team captains.\nIf a Team cannot play then they must give the opposing team 3 days’ notice to cancel or potentially suffer forfeit\nWhen a game is postponed by agreement between the Captains\, the Captain agreeing to the postponement should offer the postponing Captain three alternative dates to play the postponed match within two weeks of the original fixture.\nThe postponing Captain must accept one of these dates and the match played – if the game has not been rearranged within 4 weeks both teams may forfeit\nRearranged matches during the 1st half of the season must be played before the midpoint of the season wherever possible.\nAll rearranged matches must be played 2 weeks before the end of the season\nAll details of rearranged matches must be communicated on the WhatsApp captains group so the fixtures can be updated centrally\nIf a match isn’t played by the end of the season then both teams will forfeit all points for that game unless there is sufficient proof to suggest that one team has tried all efforts to rearrange\, at which point points will be awarded to the ‘innocent team’ based on their seasons average.\nNo teams will deliberately forfeit a match
URL:https://rochdalepetanque.com/index.php/event/1435/
CATEGORIES:Competitive Events,Local Competitions,Rochdale Events
END:VEVENT
BEGIN:VEVENT
DTSTART;TZID=Europe/London:20260512T130000
DTEND;TZID=Europe/London:20260512T160000
DTSTAMP:20260420T025257
CREATED:20231023T112939Z
LAST-MODIFIED:20231023T113044Z
UID:10000674-1778590800-1778601600@rochdalepetanque.com
SUMMARY:Tuesday Afternoon Open Session
DESCRIPTION:Join in our Tuesday afternoon open session\, everyone welcome.
URL:https://rochdalepetanque.com/index.php/event/open-session/2026-05-12/
LOCATION:Milnrow Cricket Club\, Harbour Lane\, Milnrow\, Rochdale\, OL16 4HF\, United Kingdom
CATEGORIES:Rochdale Events
END:VEVENT
BEGIN:VEVENT
DTSTART;TZID=Europe/London:20260514T180000
DTEND;TZID=Europe/London:20260514T203000
DTSTAMP:20260420T025257
CREATED:20230828T225148Z
LAST-MODIFIED:20230830T061208Z
UID:10000142-1778781600-1778790600@rochdalepetanque.com
SUMMARY:Thursday Evening Practice
DESCRIPTION:Come along and join us at 6pm for our Thursday evening practice sessions
URL:https://rochdalepetanque.com/index.php/event/102/2026-05-14/
CATEGORIES:Rochdale Events
END:VEVENT
BEGIN:VEVENT
DTSTART;TZID=Europe/London:20260517T100000
DTEND;TZID=Europe/London:20260517T150000
DTSTAMP:20260420T025257
CREATED:20230829T060949Z
LAST-MODIFIED:20230830T061050Z
UID:10000403-1779012000-1779030000@rochdalepetanque.com
SUMMARY:Sunday Pétanque Session
DESCRIPTION:Come along and join our Sunday Pétanque session\, everybody welcome.
URL:https://rochdalepetanque.com/index.php/event/sunday-petanque-session/2026-05-17/
CATEGORIES:Rochdale Events
END:VEVENT
BEGIN:VEVENT
DTSTART;TZID=Europe/London:20260517T133000
DTEND;TZID=Europe/London:20260517T170000
DTSTAMP:20260420T025257
CREATED:20260303T140718Z
LAST-MODIFIED:20260303T140732Z
UID:10000966-1779024600-1779037200@rochdalepetanque.com
SUMMARY:Rochdale Boules League
DESCRIPTION:LOSW V Milton \nRochdale P V Trafford AM \nHealey V Dellboys \nDonkey V BBC \n  \n  \nStandard Notes / Rules \nStart at 1.30pm unless pre-arranged otherwise.\nHome captain to check their competition are coming\nHome teams to ensure catering arrangements in place for hosting\nHome team rules apply – Hosting home team captain – please highlight obvious contentious rules\nAll games to be refereed.\nIf a boule is removed before each team agreed the end\, the opposing team take the points + 1 point each boules moved\nMatch Cancellation and Rearrangement\nAny match may be rescheduled subject to agreement between 2 team captains.\nIf a Team cannot play then they must give the opposing team 3 days’ notice to cancel or potentially suffer forfeit\nWhen a game is postponed by agreement between the Captains\, the Captain agreeing to the postponement should offer the postponing Captain three alternative dates to play the postponed match within two weeks of the original fixture.\nThe postponing Captain must accept one of these dates and the match played – if the game has not been rearranged within 4 weeks both teams may forfeit\nRearranged matches during the 1st half of the season must be played before the midpoint of the season wherever possible.\nAll rearranged matches must be played 2 weeks before the end of the season\nAll details of rearranged matches must be communicated on the WhatsApp captains group so the fixtures can be updated centrally\nIf a match isn’t played by the end of the season then both teams will forfeit all points for that game unless there is sufficient proof to suggest that one team has tried all efforts to rearrange\, at which point points will be awarded to the ‘innocent team’ based on their seasons average.\nNo teams will deliberately forfeit a match
URL:https://rochdalepetanque.com/index.php/event/1438/
CATEGORIES:Competitive Events,Local Competitions,Rochdale Events
END:VEVENT
BEGIN:VEVENT
DTSTART;TZID=Europe/London:20260519T130000
DTEND;TZID=Europe/London:20260519T160000
DTSTAMP:20260420T025257
CREATED:20231023T112939Z
LAST-MODIFIED:20231023T113044Z
UID:10000675-1779195600-1779206400@rochdalepetanque.com
SUMMARY:Tuesday Afternoon Open Session
DESCRIPTION:Join in our Tuesday afternoon open session\, everyone welcome.
URL:https://rochdalepetanque.com/index.php/event/open-session/2026-05-19/
LOCATION:Milnrow Cricket Club\, Harbour Lane\, Milnrow\, Rochdale\, OL16 4HF\, United Kingdom
CATEGORIES:Rochdale Events
END:VEVENT
BEGIN:VEVENT
DTSTART;TZID=Europe/London:20260521T180000
DTEND;TZID=Europe/London:20260521T203000
DTSTAMP:20260420T025257
CREATED:20230828T225148Z
LAST-MODIFIED:20230830T061208Z
UID:10000143-1779386400-1779395400@rochdalepetanque.com
SUMMARY:Thursday Evening Practice
DESCRIPTION:Come along and join us at 6pm for our Thursday evening practice sessions
URL:https://rochdalepetanque.com/index.php/event/102/2026-05-21/
CATEGORIES:Rochdale Events
END:VEVENT
BEGIN:VEVENT
DTSTART;TZID=Europe/London:20260523T080000
DTEND;TZID=Europe/London:20260525T170000
DTSTAMP:20260420T025257
CREATED:20251005T152121Z
LAST-MODIFIED:20251005T152121Z
UID:10000956-1779523200-1779728400@rochdalepetanque.com
SUMMARY:Big Welsh Weekender  - Lyss-vye-naze International
DESCRIPTION:
URL:https://rochdalepetanque.com/index.php/event/big-welsh-weekender-lyss-vye-naze-international/
LOCATION:LCRA North Wales Petanque Centre\, Llysfaen\, Wales\, LL29 8SS
CATEGORIES:Competitive Events,National Competitions
END:VEVENT
BEGIN:VEVENT
DTSTART;TZID=Europe/London:20260524T100000
DTEND;TZID=Europe/London:20260524T150000
DTSTAMP:20260420T025257
CREATED:20230829T060949Z
LAST-MODIFIED:20230830T061050Z
UID:10000404-1779616800-1779634800@rochdalepetanque.com
SUMMARY:Sunday Pétanque Session
DESCRIPTION:Come along and join our Sunday Pétanque session\, everybody welcome.
URL:https://rochdalepetanque.com/index.php/event/sunday-petanque-session/2026-05-24/
CATEGORIES:Rochdale Events
END:VEVENT
BEGIN:VEVENT
DTSTART;TZID=Europe/London:20260526T130000
DTEND;TZID=Europe/London:20260526T160000
DTSTAMP:20260420T025257
CREATED:20231023T112939Z
LAST-MODIFIED:20231023T113044Z
UID:10000676-1779800400-1779811200@rochdalepetanque.com
SUMMARY:Tuesday Afternoon Open Session
DESCRIPTION:Join in our Tuesday afternoon open session\, everyone welcome.
URL:https://rochdalepetanque.com/index.php/event/open-session/2026-05-26/
LOCATION:Milnrow Cricket Club\, Harbour Lane\, Milnrow\, Rochdale\, OL16 4HF\, United Kingdom
CATEGORIES:Rochdale Events
END:VEVENT
BEGIN:VEVENT
DTSTART;TZID=Europe/London:20260528T180000
DTEND;TZID=Europe/London:20260528T203000
DTSTAMP:20260420T025257
CREATED:20230828T225148Z
LAST-MODIFIED:20230830T061208Z
UID:10000144-1779991200-1780000200@rochdalepetanque.com
SUMMARY:Thursday Evening Practice
DESCRIPTION:Come along and join us at 6pm for our Thursday evening practice sessions
URL:https://rochdalepetanque.com/index.php/event/102/2026-05-28/
CATEGORIES:Rochdale Events
END:VEVENT
BEGIN:VEVENT
DTSTART;TZID=Europe/London:20260531T100000
DTEND;TZID=Europe/London:20260531T150000
DTSTAMP:20260420T025257
CREATED:20230829T060949Z
LAST-MODIFIED:20230830T061050Z
UID:10000405-1780221600-1780239600@rochdalepetanque.com
SUMMARY:Sunday Pétanque Session
DESCRIPTION:Come along and join our Sunday Pétanque session\, everybody welcome.
URL:https://rochdalepetanque.com/index.php/event/sunday-petanque-session/2026-05-31/
CATEGORIES:Rochdale Events
END:VEVENT
BEGIN:VEVENT
DTSTART;TZID=Europe/London:20260531T133000
DTEND;TZID=Europe/London:20260531T170000
DTSTAMP:20260420T025257
CREATED:20260303T140939Z
LAST-MODIFIED:20260303T140939Z
UID:10000967-1780234200-1780246800@rochdalepetanque.com
SUMMARY:Rochdale Boules League
DESCRIPTION:Dellboys V Milton \nBBC v Rochdale P \nTrafford AM V Donkey \nLOSW V Healey \n  \nStandard Notes / Rules \nStart at 1.30pm unless pre-arranged otherwise.\nHome captain to check their competition are coming\nHome teams to ensure catering arrangements in place for hosting\nHome team rules apply – Hosting home team captain – please highlight obvious contentious rules\nAll games to be refereed.\nIf a boule is removed before each team agreed the end\, the opposing team take the points + 1 point each boules moved\nMatch Cancellation and Rearrangement\nAny match may be rescheduled subject to agreement between 2 team captains.\nIf a Team cannot play then they must give the opposing team 3 days’ notice to cancel or potentially suffer forfeit\nWhen a game is postponed by agreement between the Captains\, the Captain agreeing to the postponement should offer the postponing Captain three alternative dates to play the postponed match within two weeks of the original fixture.\nThe postponing Captain must accept one of these dates and the match played – if the game has not been rearranged within 4 weeks both teams may forfeit\nRearranged matches during the 1st half of the season must be played before the midpoint of the season wherever possible.\nAll rearranged matches must be played 2 weeks before the end of the season\nAll details of rearranged matches must be communicated on the WhatsApp captains group so the fixtures can be updated centrally\nIf a match isn’t played by the end of the season then both teams will forfeit all points for that game unless there is sufficient proof to suggest that one team has tried all efforts to rearrange\, at which point points will be awarded to the ‘innocent team’ based on their seasons average.\nNo teams will deliberately forfeit a match
URL:https://rochdalepetanque.com/index.php/event/rochdale-boules-league-16/
CATEGORIES:Competitive Events,Local Competitions,Rochdale Events
END:VEVENT
BEGIN:VEVENT
DTSTART;TZID=Europe/London:20260602T130000
DTEND;TZID=Europe/London:20260602T160000
DTSTAMP:20260420T025257
CREATED:20231023T112939Z
LAST-MODIFIED:20231023T113044Z
UID:10000677-1780405200-1780416000@rochdalepetanque.com
SUMMARY:Tuesday Afternoon Open Session
DESCRIPTION:Join in our Tuesday afternoon open session\, everyone welcome.
URL:https://rochdalepetanque.com/index.php/event/open-session/2026-06-02/
LOCATION:Milnrow Cricket Club\, Harbour Lane\, Milnrow\, Rochdale\, OL16 4HF\, United Kingdom
CATEGORIES:Rochdale Events
END:VEVENT
BEGIN:VEVENT
DTSTART;TZID=Europe/London:20260604T180000
DTEND;TZID=Europe/London:20260604T203000
DTSTAMP:20260420T025257
CREATED:20230828T225148Z
LAST-MODIFIED:20230830T061208Z
UID:10000145-1780596000-1780605000@rochdalepetanque.com
SUMMARY:Thursday Evening Practice
DESCRIPTION:Come along and join us at 6pm for our Thursday evening practice sessions
URL:https://rochdalepetanque.com/index.php/event/102/2026-06-04/
CATEGORIES:Rochdale Events
END:VEVENT
BEGIN:VEVENT
DTSTART;TZID=Europe/London:20260607T100000
DTEND;TZID=Europe/London:20260607T150000
DTSTAMP:20260420T025257
CREATED:20230829T060949Z
LAST-MODIFIED:20230830T061050Z
UID:10000406-1780826400-1780844400@rochdalepetanque.com
SUMMARY:Sunday Pétanque Session
DESCRIPTION:Come along and join our Sunday Pétanque session\, everybody welcome.
URL:https://rochdalepetanque.com/index.php/event/sunday-petanque-session/2026-06-07/
CATEGORIES:Rochdale Events
END:VEVENT
BEGIN:VEVENT
DTSTART;TZID=Europe/London:20260609T130000
DTEND;TZID=Europe/London:20260609T160000
DTSTAMP:20260420T025257
CREATED:20231023T112939Z
LAST-MODIFIED:20231023T113044Z
UID:10000678-1781010000-1781020800@rochdalepetanque.com
SUMMARY:Tuesday Afternoon Open Session
DESCRIPTION:Join in our Tuesday afternoon open session\, everyone welcome.
URL:https://rochdalepetanque.com/index.php/event/open-session/2026-06-09/
LOCATION:Milnrow Cricket Club\, Harbour Lane\, Milnrow\, Rochdale\, OL16 4HF\, United Kingdom
CATEGORIES:Rochdale Events
END:VEVENT
BEGIN:VEVENT
DTSTART;TZID=Europe/London:20260611T180000
DTEND;TZID=Europe/London:20260611T203000
DTSTAMP:20260420T025257
CREATED:20230828T225148Z
LAST-MODIFIED:20230830T061208Z
UID:10000146-1781200800-1781209800@rochdalepetanque.com
SUMMARY:Thursday Evening Practice
DESCRIPTION:Come along and join us at 6pm for our Thursday evening practice sessions
URL:https://rochdalepetanque.com/index.php/event/102/2026-06-11/
CATEGORIES:Rochdale Events
END:VEVENT
BEGIN:VEVENT
DTSTART;TZID=Europe/London:20260614T100000
DTEND;TZID=Europe/London:20260614T150000
DTSTAMP:20260420T025257
CREATED:20230829T060949Z
LAST-MODIFIED:20230830T061050Z
UID:10000407-1781431200-1781449200@rochdalepetanque.com
SUMMARY:Sunday Pétanque Session
DESCRIPTION:Come along and join our Sunday Pétanque session\, everybody welcome.
URL:https://rochdalepetanque.com/index.php/event/sunday-petanque-session/2026-06-14/
CATEGORIES:Rochdale Events
END:VEVENT
BEGIN:VEVENT
DTSTART;TZID=Europe/London:20260614T133000
DTEND;TZID=Europe/London:20260614T170000
DTSTAMP:20260420T025257
CREATED:20260303T141318Z
LAST-MODIFIED:20260303T141318Z
UID:10000968-1781443800-1781456400@rochdalepetanque.com
SUMMARY:Rochdale Boules League
DESCRIPTION:LOSW V Dellboys \nTrafford AM V Healey \nDonkey V Rochdale P \nBBC V Milton \n  \nStandard Notes / Rules \nStart at 1.30pm unless pre-arranged otherwise.\nHome captain to check their competition are coming\nHome teams to ensure catering arrangements in place for hosting\nHome team rules apply – Hosting home team captain – please highlight obvious contentious rules\nAll games to be refereed.\nIf a boule is removed before each team agreed the end\, the opposing team take the points + 1 point each boules moved\nMatch Cancellation and Rearrangement\nAny match may be rescheduled subject to agreement between 2 team captains.\nIf a Team cannot play then they must give the opposing team 3 days’ notice to cancel or potentially suffer forfeit\nWhen a game is postponed by agreement between the Captains\, the Captain agreeing to the postponement should offer the postponing Captain three alternative dates to play the postponed match within two weeks of the original fixture.\nThe postponing Captain must accept one of these dates and the match played – if the game has not been rearranged within 4 weeks both teams may forfeit\nRearranged matches during the 1st half of the season must be played before the midpoint of the season wherever possible.\nAll rearranged matches must be played 2 weeks before the end of the season\nAll details of rearranged matches must be communicated on the WhatsApp captains group so the fixtures can be updated centrally\nIf a match isn’t played by the end of the season then both teams will forfeit all points for that game unless there is sufficient proof to suggest that one team has tried all efforts to rearrange\, at which point points will be awarded to the ‘innocent team’ based on their seasons average.\nNo teams will deliberately forfeit a match
URL:https://rochdalepetanque.com/index.php/event/rochdale-boules-league-17/
CATEGORIES:Competitive Events,Local Competitions,Rochdale Events
END:VEVENT
END:VCALENDAR